BEGIN:VCALENDAR
VERSION:2.0
PRODID:-//Dyscover Charity - ECPv6.12.0.1//NONSGML v1.0//EN
CALSCALE:GREGORIAN
METHOD:PUBLISH
X-ORIGINAL-URL:https://dyscover.org.uk
X-WR-CALDESC:Events for Dyscover Charity
REFRESH-INTERVAL;VALUE=DURATION:PT1H
X-Robots-Tag:noindex
X-PUBLISHED-TTL:PT1H
BEGIN:VTIMEZONE
TZID:Europe/London
BEGIN:DAYLIGHT
TZOFFSETFROM:+0000
TZOFFSETTO:+0100
TZNAME:BST
DTSTART:20240331T010000
END:DAYLIGHT
BEGIN:STANDARD
TZOFFSETFROM:+0100
TZOFFSETTO:+0000
TZNAME:GMT
DTSTART:20241027T010000
END:STANDARD
BEGIN:DAYLIGHT
TZOFFSETFROM:+0000
TZOFFSETTO:+0100
TZNAME:BST
DTSTART:20250330T010000
END:DAYLIGHT
BEGIN:STANDARD
TZOFFSETFROM:+0100
TZOFFSETTO:+0000
TZNAME:GMT
DTSTART:20251026T010000
END:STANDARD
END:VTIMEZONE
BEGIN:VEVENT
DTSTART;TZID=Europe/London:20251210T190000
DTEND;TZID=Europe/London:20251210T190000
DTSTAMP:20260421T223714
CREATED:20251124T115752Z
LAST-MODIFIED:20251124T120815Z
UID:2168-1765393200-1765393200@dyscover.org.uk
SUMMARY:Fancy a Quiz Night?
DESCRIPTION:Buy tickets here
URL:https://dyscover.org.uk/event/fancy-a-quiz-night/
LOCATION:Liquid Gold Whisky Company\, 88 The St\, Ashtead\, KT21 1AW
CATEGORIES:Events
ATTACH;FMTTYPE=image/jpeg:https://dyscover.org.uk/wp-content/uploads/2025/11/Dyscover-Quiz-Night-Dec-2025.jpeg
END:VEVENT
BEGIN:VEVENT
DTSTART;TZID=Europe/London:20250329T100000
DTEND;TZID=Europe/London:20250329T130000
DTSTAMP:20260421T223714
CREATED:20250325T133814Z
LAST-MODIFIED:20250403T122510Z
UID:1905-1743242400-1743253200@dyscover.org.uk
SUMMARY:Lampshade Making Workshop
DESCRIPTION:Join us for a fun session\, with refreshments\, aimed at complete beginners.  The venue is The Stockroom Society\, Unit 18\, The Swan Centre\, Leatherhead KT22 8AH. \n£50 per person. \nBook directly through this link: Lampshade Workshop
URL:https://dyscover.org.uk/event/lampshade-making-workshop/
LOCATION:The Stockroom Society\, Unit 18 Swan Centre\, Leatherhead\, KT22 8AH
CATEGORIES:Events
ATTACH;FMTTYPE=image/png:https://dyscover.org.uk/wp-content/uploads/2025/01/group-pic1.png
END:VEVENT
BEGIN:VEVENT
DTSTART;TZID=Europe/London:20250315T190000
DTEND;TZID=Europe/London:20250315T220000
DTSTAMP:20260421T223714
CREATED:20250325T133149Z
LAST-MODIFIED:20250403T122444Z
UID:1901-1742065200-1742076000@dyscover.org.uk
SUMMARY:Quiz Night
DESCRIPTION:Join us for a fun quiz and delicious meal at Old Barn Hall\, Bookham KT23 3PQ on Saturday 15th March 2025 at 7pm for 7:30pm.  Click the link for more information and to book directly or email jmatthews@dyscover.org.uk\nhttps://bigspringquiz.eventbrite.co.uk    Team size – maximum 8 people
URL:https://dyscover.org.uk/event/quiz-night/
LOCATION:Old Barn Hall\, Bookham\, KT23 3PQ\, United Kingdom
CATEGORIES:Events
ATTACH;FMTTYPE=image/jpeg:https://dyscover.org.uk/wp-content/uploads/2025/01/3d-quiz-gold-title-for-contest-show-gold-font-for-trivia-typography-design-template-on-black-tile-background-typefa.jpg
END:VEVENT
BEGIN:VEVENT
DTSTART;TZID=Europe/London:20250117T133000
DTEND;TZID=Europe/London:20250117T170000
DTSTAMP:20260421T223714
CREATED:20250325T134607Z
LAST-MODIFIED:20250403T122514Z
UID:1909-1737120600-1737133200@dyscover.org.uk
SUMMARY:Bridge with Afternoon Tea
DESCRIPTION:Friday 17th January 2025\n1.30pm to 5pm\n£80 for table of 4\nOxshott Village Centre\, KT22 0QJ \nPlease click the link to book your table afternoonbridge.eventbrite.co.uk
URL:https://dyscover.org.uk/event/bridge-with-afternoon-tea/
LOCATION:Oxshott Village Centre\, KT22 0QJ
CATEGORIES:Events
ATTACH;FMTTYPE=image/jpeg:https://dyscover.org.uk/wp-content/uploads/2024/12/Quiz-image.jpg
END:VEVENT
BEGIN:VEVENT
DTSTART;TZID=Europe/London:20240921T150000
DTEND;TZID=Europe/London:20240921T170000
DTSTAMP:20260421T223714
CREATED:20250403T122730Z
LAST-MODIFIED:20250403T123153Z
UID:1941-1726930800-1726938000@dyscover.org.uk
SUMMARY:Olive Tree Afternoon Tea Fundraiser
DESCRIPTION:Local Garden Centre\, Ashtead Park Garden Centre\, hosted a lovely Afternoon Tea Fundraiser. Our 20 guests enjoyed a beautiful spread and were waited upon by attentive staff. Much appreciation to the Olive Tree restaurant and all the attendees who\, with an extra donation and raffle included\, raised a huge £386 for Dyscover! Thank you \n  \n 
URL:https://dyscover.org.uk/event/olive-tree-afternoon-tea-fundraiser/
LOCATION:Olive Tree Restaurant in Ashtead Garden Centre
CATEGORIES:Events
ATTACH;FMTTYPE=image/jpeg:https://dyscover.org.uk/wp-content/uploads/2024/10/Afternoon-tea-2.jpg
END:VEVENT
BEGIN:VEVENT
DTSTART;VALUE=DATE:20240703
DTEND;VALUE=DATE:20240704
DTSTAMP:20260421T223714
CREATED:20250403T124454Z
LAST-MODIFIED:20250403T124622Z
UID:1946-1719964800-1720051199@dyscover.org.uk
SUMMARY:Garden Party Fundraiser
DESCRIPTION:14 ladies from the Basingstoke Chapter of the Red Hat Society attended a fundraising garden party held by Simone\, who is the wife of one of our members. It was a lovely afternoon and they have raised £255 for us which is brilliant. Thank you so much Simone for organising this event and to the guests for their generosity and amazing hats!
URL:https://dyscover.org.uk/event/garden-party-fundraiser/
CATEGORIES:Events
ATTACH;FMTTYPE=image/jpeg:https://dyscover.org.uk/wp-content/uploads/2024/07/Simone-Garden-Party.jpg
END:VEVENT
BEGIN:VEVENT
DTSTART;VALUE=DATE:20240427
DTEND;VALUE=DATE:20240428
DTSTAMP:20260421T223714
CREATED:20250404T152642Z
LAST-MODIFIED:20250404T152642Z
UID:1987-1714176000-1714262399@dyscover.org.uk
SUMMARY:Anniversary Ball
DESCRIPTION:We celebrated our 30th Anniversary with a Grand Ball at Kingswood Golf Club on 27th April. Over 100 guests enjoyed a drinks reception with a wonderful pianist\, a delicious three-course meal\, magician\, professional photographer\, live music and dancing. The band\, Ronnie Scott’s Rejects\, were fantastic and the dance floor was full until the end. \nThe evening was a huge success and a real celebration of everything that Dyscover has achieved. It was lovely to see such a mix of people enjoying the evening – members\, staff\, volunteers\, trustees (both past and present) and many Dyscover friends and supporters. We are delighted to announce that the event has raised an incredible £8\,400! \nWe would like to say a huge thank you to our sponsors – Russell Cooke Solicitors\, D&J Anderson Properties and to all the programme advertisers. \nOur thanks to everyone that donated raffle and auction prizes\, Kingswood Golf Club for hosting the event so well\, and the volunteers that helped on the night. Thanks also to Ashley the photographer\, the committee that helped Liz to plan it over the last 18 months\, and Ambassador Suzie who spoke so brilliantly about her experience of having aphasia and how Dyscover has supported her.
URL:https://dyscover.org.uk/event/anniversary-ball/
CATEGORIES:Events
ATTACH;FMTTYPE=image/jpeg:https://dyscover.org.uk/wp-content/uploads/2024/07/Sponsor-table.jpg
END:VEVENT
END:VCALENDAR